BEGIN:VCALENDAR
VERSION:2.0
PRODID:Events Booking
BEGIN:VEVENT
UID:69e91a2321a51
SUMMARY:D1 GP THAILAND 2025 Round 3 & 4 x IMPACT SPEED FEST
DESCRIPTION:
DTSTART:20251106T170000Z
DTEND:20251109T165500Z
DTSTAMP:20251030T221906Z
ORGANIZER:MAILTO:developer@impact.co.th
END:VEVENT
END:VCALENDAR