BEGIN:VCALENDAR
VERSION:2.0
PRODID:Events Booking
BEGIN:VEVENT
UID:69ea511e10dce
SUMMARY:Doja Cat - Ma Vie World Tour
DESCRIPTION:
DTSTART:20251217T170000Z
DTEND:20251218T165500Z
DTSTAMP:20251126T022133Z
ORGANIZER:MAILTO:developer@impact.co.th
END:VEVENT
END:VCALENDAR