BEGIN:VCALENDAR
VERSION:2.0
PRODID:Events Booking
BEGIN:VEVENT
UID:69ea5bd5ac06b
SUMMARY:FDA EXPO 2026
DESCRIPTION:
DTSTART:20260122T170000Z
DTEND:20260125T165500Z
DTSTAMP:20260116T044743Z
ORGANIZER:MAILTO:developer@impact.co.th
END:VEVENT
END:VCALENDAR