BEGIN:VCALENDAR
VERSION:2.0
PRODID:Events Booking
BEGIN:VEVENT
UID:69e918f51a747
SUMMARY:Thailand Rice Fest 2025
DESCRIPTION:
DTSTART:20251203T170000Z
DTEND:20251207T165500Z
DTSTAMP:20251120T214321Z
ORGANIZER:MAILTO:developer@impact.co.th
END:VEVENT
END:VCALENDAR