BEGIN:VCALENDAR
VERSION:2.0
PRODID:Events Booking
BEGIN:VEVENT
UID:69e7c15656a4e
SUMMARY:The Concert Application presents Three Man Down Live in IMPACT Aren
 a 2023
DESCRIPTION:
LOCATION:https://maps.app.goo.gl/tAZXnSoSUFx2DMow8
DTSTART:20230818T170000Z
DTSTAMP:20230704T013345Z
ORGANIZER:MAILTO:developer@impact.co.th
GEO:13.911514;100.54838
X-APPLE-STRUCTURED-LOCATION;VALUE=URI;X-ADDRESS=https://maps.app.goo.gl/tAZ
 XnSoSUFx2DMow8;X-APPLE-RADIUS=72;X-TITLE=IMPACT Arena 大型表演场地:1
 3.911514;100.54838
END:VEVENT
END:VCALENDAR