BEGIN:VCALENDAR
VERSION:2.0
PRODID:Events Booking
BEGIN:VEVENT
UID:69e4e74bcc9be
SUMMARY:TWICE < THIS IS FOR > WORLD TOUR in BANGKOK
DESCRIPTION:
LOCATION:https://maps.app.goo.gl/tAZXnSoSUFx2DMow8
DTSTART:20251212T170000Z
DTEND:20251214T165500Z
DTSTAMP:20251109T204632Z
ORGANIZER:MAILTO:developer@impact.co.th
GEO:13.911514;100.54838
X-APPLE-STRUCTURED-LOCATION;VALUE=URI;X-ADDRESS=https://maps.app.goo.gl/tAZ
 XnSoSUFx2DMow8;X-APPLE-RADIUS=72;X-TITLE=IMPACT Arena 大型表演场地:1
 3.911514;100.54838
END:VEVENT
END:VCALENDAR