BEGIN:VCALENDAR
VERSION:2.0
PRODID:Events Booking
BEGIN:VEVENT
UID:69e9148e4159e
SUMMARY:2025 YOUNGJAE ASIA TOUR [Fermata] IN BANGKOK
DESCRIPTION:
DTSTART:20251024T170000Z
DTEND:20251026T165500Z
DTSTAMP:20250922T014202Z
ORGANIZER:MAILTO:developer@impact.co.th
END:VEVENT
END:VCALENDAR