BEGIN:VCALENDAR
VERSION:2.0
PRODID:Events Booking
BEGIN:VEVENT
UID:69eb73eb582f3
SUMMARY:2026 OCEAN JIANG BIRTHDAY CONCERT : My Attitude
DESCRIPTION:
DTSTART:20260424T170000Z
DTEND:20260425T165500Z
DTSTAMP:20260423T202632Z
ORGANIZER:MAILTO:developer@impact.co.th
END:VEVENT
END:VCALENDAR