BEGIN:VCALENDAR
VERSION:2.0
PRODID:Events Booking
BEGIN:VEVENT
UID:69e8e60394dba
SUMMARY:47th Bangkok International Motor Show 2026
DESCRIPTION:
DTSTART:20260324T170000Z
DTEND:20260405T165500Z
DTSTAMP:20260127T040728Z
ORGANIZER:MAILTO:developer@impact.co.th
END:VEVENT
END:VCALENDAR