BEGIN:VCALENDAR
VERSION:2.0
PRODID:Events Booking
BEGIN:VEVENT
UID:69ea4171a8145
SUMMARY:ATEEZ WORLD TOUR [THE FELLOWSHIP : BREAK THE WALL] in BANGKOK
DESCRIPTION:
DTSTART:20230804T170000Z
DTSTAMP:20230704T013345Z
ORGANIZER:MAILTO:developer@impact.co.th
END:VEVENT
END:VCALENDAR