BEGIN:VCALENDAR
VERSION:2.0
PRODID:Events Booking
BEGIN:VEVENT
UID:69eab4729c680
SUMMARY:Building Construction Technology Expo 2025 (BCT Expo 2025)
DESCRIPTION:
DTSTART:20250902T170000Z
DTEND:20250905T165500Z
DTSTAMP:20230704T013345Z
ORGANIZER:MAILTO:developer@impact.co.th
END:VEVENT
END:VCALENDAR