BEGIN:VCALENDAR
VERSION:2.0
PRODID:Events Booking
BEGIN:VEVENT
UID:69e7c7ba1299e
SUMMARY:COCKTAIL 77 EVER TOUR จ.นนทบุรี
DESCRIPTION:
DTSTART:20251003T170000Z
DTEND:20251004T165500Z
DTSTAMP:20250921T223131Z
ORGANIZER:MAILTO:developer@impact.co.th
END:VEVENT
END:VCALENDAR