BEGIN:VCALENDAR
VERSION:2.0
PRODID:Events Booking
BEGIN:VEVENT
UID:69e7d48bd5605
SUMMARY:FARM EXPO 2025 : Thailands inaugural consumer-focused “FARMING”
DESCRIPTION:
DTSTART:20250924T170000Z
DTEND:20250928T165500Z
DTSTAMP:20230704T013345Z
ORGANIZER:MAILTO:developer@impact.co.th
END:VEVENT
END:VCALENDAR