BEGIN:VCALENDAR
VERSION:2.0
PRODID:Events Booking
BEGIN:VEVENT
UID:69e7bdfa0fcff
SUMMARY:Funiture Show 2026 X POWER BUY FAIR
DESCRIPTION:
DTSTART:20260109T170000Z
DTEND:20260118T165500Z
DTSTAMP:20251210T234703Z
ORGANIZER:MAILTO:developer@impact.co.th
END:VEVENT
END:VCALENDAR