BEGIN:VCALENDAR
VERSION:2.0
PRODID:Events Booking
BEGIN:VEVENT
UID:69ea3ab124102
SUMMARY:Lomosonic Human Power Concert
DESCRIPTION:
DTSTART:20250919T170000Z
DTEND:20250920T165500Z
DTSTAMP:20250903T195936Z
ORGANIZER:MAILTO:developer@impact.co.th
END:VEVENT
END:VCALENDAR