BEGIN:VCALENDAR
VERSION:2.0
PRODID:Events Booking
BEGIN:VEVENT
UID:69e7beed60f31
SUMMARY:MARIAH CAREY The Celebration of MIMI
DESCRIPTION:
DTSTART:20251010T170000Z
DTEND:20251011T165500Z
DTSTAMP:20250907T234042Z
ORGANIZER:MAILTO:developer@impact.co.th
END:VEVENT
END:VCALENDAR