BEGIN:VCALENDAR
VERSION:2.0
PRODID:Events Booking
BEGIN:VEVENT
UID:69eadbeee26e7
SUMMARY:Thailand (Bangkok) Amusement & Attraction Parks Expo 2026 (TAAPE 20
 26)
DESCRIPTION:
DTSTART:20261028T170000Z
DTEND:20261031T165500Z
DTSTAMP:20260402T012138Z
ORGANIZER:MAILTO:developer@impact.co.th
END:VEVENT
END:VCALENDAR