BEGIN:VCALENDAR
VERSION:2.0
PRODID:Events Booking
BEGIN:VEVENT
UID:69eba24fb8d51
SUMMARY:THAILAND TOURISM & MICE NEXT 2026
DESCRIPTION:
DTSTART:20260122T170000Z
DTEND:20260123T165500Z
DTSTAMP:20251224T041958Z
ORGANIZER:MAILTO:developer@impact.co.th
END:VEVENT
END:VCALENDAR