BEGIN:VCALENDAR
VERSION:2.0
PRODID:Events Booking
BEGIN:VEVENT
UID:69ea57baea5be
SUMMARY:Thaiwatsadu x BnB home Grand Sale 2025
DESCRIPTION:
DTSTART:20251127T170000Z
DTEND:20251207T165500Z
DTSTAMP:20251103T025400Z
ORGANIZER:MAILTO:developer@impact.co.th
END:VEVENT
END:VCALENDAR