BEGIN:VCALENDAR
VERSION:2.0
PRODID:Events Booking
BEGIN:VEVENT
UID:69ea3b96cee99
SUMMARY:50 CENT ‘THE FINAL LAP TOUR 2023 BANGKOK’ GET RICH OR DIE TRYIN
 ' - 20 YEARS LATER
DESCRIPTION:
LOCATION:https://maps.app.goo.gl/tAZXnSoSUFx2DMow8
DTSTART:20231218T170000Z
DTSTAMP:20230704T013345Z
ORGANIZER:MAILTO:developer@impact.co.th
GEO:13.911514;100.54838
X-APPLE-STRUCTURED-LOCATION;VALUE=URI;X-ADDRESS=https://maps.app.goo.gl/tAZ
 XnSoSUFx2DMow8;X-APPLE-RADIUS=72;X-TITLE=อิมแพ็ค อาร
 ีน่า:13.911514;100.54838
END:VEVENT
END:VCALENDAR