BEGIN:VCALENDAR
VERSION:2.0
PRODID:Events Booking
BEGIN:VEVENT
UID:69e7be6da9691
SUMMARY:BIG BAD WOLF BOOKS : WORLD'S BIGGEST BOOK SALES
DESCRIPTION:
DTSTART:20250806T170000Z
DTEND:20250817T165500Z
DTSTAMP:20230704T013345Z
ORGANIZER:MAILTO:developer@impact.co.th
END:VEVENT
END:VCALENDAR