BEGIN:VCALENDAR
VERSION:2.0
PRODID:Events Booking
BEGIN:VEVENT
UID:69e6476fd2da8
SUMMARY:CIAME Asia 2025 - Thailand International Agricultural Machinery Exh
 ibition
DESCRIPTION:
DTSTART:20250722T170000Z
DTEND:20250724T170000Z
DTSTAMP:20230704T013345Z
ORGANIZER:MAILTO:developer@impact.co.th
END:VEVENT
END:VCALENDAR