BEGIN:VCALENDAR
VERSION:2.0
PRODID:Events Booking
BEGIN:VEVENT
UID:69e919e38339c
SUMMARY:DAOU OFFROAD [LOVE AT FIRST FLIGHT] FAN CONCERT
DESCRIPTION:
DTSTART:20250718T170000Z
DTEND:20250718T170000Z
DTSTAMP:20230704T013345Z
ORGANIZER:MAILTO:developer@impact.co.th
END:VEVENT
END:VCALENDAR