BEGIN:VCALENDAR
VERSION:2.0
PRODID:Events Booking
BEGIN:VEVENT
UID:69e8fc441f0b0
SUMMARY:KOKORO cos #8
DESCRIPTION:
DTSTART:20250906T170000Z
DTEND:20250907T165500Z
DTSTAMP:20230704T013345Z
ORGANIZER:MAILTO:developer@impact.co.th
END:VEVENT
END:VCALENDAR