BEGIN:VCALENDAR
VERSION:2.0
PRODID:Events Booking
BEGIN:VEVENT
UID:69eaf22ef1b18
SUMMARY:งานแสดงสินค้าเครื่องเล
 ่นสวนสนุก และแหล่งท่องเที
 ่ยว ประเทศไทยประจำปี 2569
DESCRIPTION:
DTSTART:20261028T170000Z
DTEND:20261031T165500Z
DTSTAMP:20260402T012138Z
ORGANIZER:MAILTO:developer@impact.co.th
END:VEVENT
END:VCALENDAR