BEGIN:VCALENDAR
VERSION:2.0
PRODID:Events Booking
BEGIN:VEVENT
UID:69ea5155aa1c3
SUMMARY:การประกวดมิสยูนิเวิร์ส 
 ครั้งที่ 74
DESCRIPTION:
DTSTART:20251120T170000Z
DTEND:20251121T165500Z
DTSTAMP:20250904T015443Z
ORGANIZER:MAILTO:developer@impact.co.th
END:VEVENT
END:VCALENDAR