BEGIN:VCALENDAR
VERSION:2.0
PRODID:Events Booking
BEGIN:VEVENT
UID:69ea52105f8c5
SUMMARY:งานมหกรรม ไทย-จีน ครบทุก
 มิติ สุดยิ่งใหญ่ ที่เกิดจา
 กความสัมพันธ์อันแน่นแฟ้น 5
 0 ปี ไทย-จีน
DESCRIPTION:
DTSTART:20250925T170000Z
DTEND:20250928T165500Z
DTSTAMP:20250819T211916Z
ORGANIZER:MAILTO:developer@impact.co.th
END:VEVENT
END:VCALENDAR