BEGIN:VCALENDAR
VERSION:2.0
PRODID:Events Booking
BEGIN:VEVENT
UID:69e8a729e4f02
SUMMARY:งานแสดงสินค้าสวนสนุกแล
 ะแหล่งท่องเที่ยวประเทศไท
 ย (TAAPE)
DESCRIPTION:
DTSTART:20251014T170000Z
DTEND:20251017T165500Z
DTSTAMP:20230704T013345Z
ORGANIZER:MAILTO:developer@impact.co.th
END:VEVENT
END:VCALENDAR