BEGIN:VCALENDAR
VERSION:2.0
PRODID:Events Booking
BEGIN:VEVENT
UID:69eac99a6a1c8
SUMMARY:งานแสดงสินค้าและเจรจาธ
 ุรกิจสำหรับอุตสาหกรรมอาค
 าร การก่อสร้าง และเหมืองแร
 ่ ระดับภูมิภาคเอเชียตะวัน
 ออกเฉียงใต้
DESCRIPTION:
DTSTART:20250902T170000Z
DTEND:20250905T165500Z
DTSTAMP:20230704T013345Z
ORGANIZER:MAILTO:developer@impact.co.th
END:VEVENT
END:VCALENDAR