BEGIN:VCALENDAR
VERSION:2.0
PRODID:Events Booking
BEGIN:VEVENT
UID:69e88f94481c9
SUMMARY:ซัมเมอร์ โซนิค กรุงเทพฯ 2
 025
DESCRIPTION:
DTSTART:20250822T170000Z
DTEND:20250824T165500Z
DTSTAMP:20230704T013345Z
ORGANIZER:MAILTO:developer@impact.co.th
END:VEVENT
END:VCALENDAR