BEGIN:VCALENDAR
VERSION:2.0
PRODID:Events Booking
BEGIN:VEVENT
UID:69e9285b97236
SUMMARY:มหกรรมดีพร้อมเสน่ห์ไทย
DESCRIPTION:
DTSTART:20251009T170000Z
DTEND:20251012T165500Z
DTSTAMP:20250922T214319Z
ORGANIZER:MAILTO:developer@impact.co.th
END:VEVENT
END:VCALENDAR