BEGIN:VCALENDAR
VERSION:2.0
PRODID:Events Booking
BEGIN:VEVENT
UID:69ea54b966c66
SUMMARY:วัน โอเค ร็อก ดีท็อกซ์ เอ
 เชีย ทัวร์ 2026 อิน แบงค์คอก
DESCRIPTION:
LOCATION:https://maps.app.goo.gl/tAZXnSoSUFx2DMow8
DTSTART:20260220T170000Z
DTEND:20260221T165500Z
DTSTAMP:20251209T035708Z
ORGANIZER:MAILTO:developer@impact.co.th
GEO:13.911514;100.54838
X-APPLE-STRUCTURED-LOCATION;VALUE=URI;X-ADDRESS=https://maps.app.goo.gl/tAZ
 XnSoSUFx2DMow8;X-APPLE-RADIUS=72;X-TITLE=อิมแพ็ค อาร
 ีน่า:13.911514;100.54838
END:VEVENT
END:VCALENDAR