BEGIN:VCALENDAR
VERSION:2.0
PRODID:Events Booking
BEGIN:VEVENT
UID:69e65a0c0a45e
SUMMARY:สถาปนิก '69: งานแสดงเทคโนโ
 ลยีสถาปัตยกรรม และผลิตภัณ
 ฑ์ก่อสร้างใหญ่ที่สุดในอา
 เซียน
DESCRIPTION:
DTSTART:20260427T170000Z
DTEND:20260503T165500Z
DTSTAMP:20260105T014834Z
ORGANIZER:MAILTO:developer@impact.co.th
END:VEVENT
END:VCALENDAR