BEGIN:VCALENDAR
VERSION:2.0
PRODID:Events Booking
BEGIN:VEVENT
UID:69ea571e84ebd
SUMMARY:เพอร์เซส เดอะ เฟิร์ส คอน
 เสิร์ต อินทู ดิ อัลเทอร์แล
 นด์
DESCRIPTION:
DTSTART:20251121T170000Z
DTEND:20251122T165500Z
DTSTAMP:20251009T001737Z
ORGANIZER:MAILTO:developer@impact.co.th
END:VEVENT
END:VCALENDAR