BEGIN:VCALENDAR
VERSION:2.0
PRODID:Events Booking
BEGIN:VEVENT
UID:69e77d89f1dec
SUMMARY:แบงค็อก ฮอท รอท คัสต้อม โ
 ชว์ 2026
DESCRIPTION:
DTSTART:20260515T170000Z
DTEND:20260517T165500Z
DTSTAMP:20260331T215638Z
ORGANIZER:MAILTO:developer@impact.co.th
END:VEVENT
END:VCALENDAR