BEGIN:VCALENDAR
VERSION:2.0
PRODID:Events Booking
BEGIN:VEVENT
UID:69e9037555e77
SUMMARY:โคดาไลน์ ไลฟ์ อิน แบงค็อ
 ก
DESCRIPTION:
DTSTART:20230915T170000Z
DTSTAMP:20230704T013345Z
ORGANIZER:MAILTO:developer@impact.co.th
END:VEVENT
END:VCALENDAR