BEGIN:VCALENDAR
VERSION:2.0
PRODID:Events Booking
BEGIN:VEVENT
UID:69eba27f4e7a7
SUMMARY:ไทยแลนด์ เบบี้ แอนด์ คิด
 ส์ เบสท์ บาย
DESCRIPTION:
DTSTART:20251105T170000Z
DTEND:20251109T165500Z
DTSTAMP:20250922T212530Z
ORGANIZER:MAILTO:developer@impact.co.th
END:VEVENT
END:VCALENDAR